BEGIN:VCALENDAR
VERSION:2.0
PRODID:-//Fórum dos Saberes Artesanais - ECPv6.15.13.1//NONSGML v1.0//EN
CALSCALE:GREGORIAN
METHOD:PUBLISH
X-WR-CALNAME:Fórum dos Saberes Artesanais
X-ORIGINAL-URL:https://saberesartesanais.com.br
X-WR-CALDESC:Eventos para Fórum dos Saberes Artesanais
REFRESH-INTERVAL;VALUE=DURATION:PT1H
X-Robots-Tag:noindex
X-PUBLISHED-TTL:PT1H
BEGIN:VTIMEZONE
TZID:America/Sao_Paulo
BEGIN:STANDARD
TZOFFSETFROM:-0300
TZOFFSETTO:-0300
TZNAME:-03
DTSTART:20200101T000000
END:STANDARD
END:VTIMEZONE
BEGIN:VEVENT
DTSTART;VALUE=DATE:20210930
DTEND;VALUE=DATE:20211001
DTSTAMP:20260421T080104
CREATED:20210805T193050Z
LAST-MODIFIED:20210805T200608Z
UID:2706-1632960000-1633046399@saberesartesanais.com.br
SUMMARY:Ultimo dia para a inscrição da Exposição Online
DESCRIPTION:Vai que dá tempo! Hoje\, 30/09\, até meia-noite dá tempo de mostrar sua arte! \nLink
URL:https://saberesartesanais.com.br/event/ultimo-dia-para-a-inscricao-da-exposicao-online/
END:VEVENT
BEGIN:VEVENT
DTSTART;VALUE=DATE:20210805
DTEND;VALUE=DATE:20210930
DTSTAMP:20260421T080104
CREATED:20210805T191724Z
LAST-MODIFIED:20210805T192424Z
UID:2700-1628121600-1632959999@saberesartesanais.com.br
SUMMARY:Abertas as inscrições para a Exposição Online
DESCRIPTION:As inscrições já começaram! Mostre sua arte para todos! \nLink
URL:https://saberesartesanais.com.br/event/exposicao-online/
CATEGORIES:Programação
ATTACH;FMTTYPE=image/jpeg:https://saberesartesanais.com.br/wp-content/uploads/2021/08/exposicao-online-2.jpeg
END:VEVENT
BEGIN:VEVENT
DTSTART;VALUE=DATE:20210713
DTEND;VALUE=DATE:20210714
DTSTAMP:20260421T080104
CREATED:20210712T205639Z
LAST-MODIFIED:20210714T125220Z
UID:1888-1626134400-1626220799@saberesartesanais.com.br
SUMMARY:Lançamento III Fórum Saberes Artesanais
DESCRIPTION:O III FÓRUM DE SABERES ARTESANAIS\, contemplado pelo Prêmio PROAC 32/2020\,  acontecerá de forma híbrida\, sendo remota de Agosto a Outubro e presencial de 28 a 31 de outubro de 2021. \nEste ano\,  teremos como diferencial\, ações com foco na acessibilidade e produção de Podcasts. Além disso\, será mantida na programação as mesas redondas\, vivências\, exposições e oficinas. \nA grande novidade será a I Mostra de Saberes Artesanais do Litoral Norte\, que chega com o objetivo de apontar que o artesanato não deve ser visto apenas como artigo de feiras\, e sim\, valorizado como um bem cultural e artístico.
URL:https://saberesartesanais.com.br/event/lancamento-iii-forum-saberes-artesanais/
CATEGORIES:Programação
ATTACH;FMTTYPE=image/png:https://saberesartesanais.com.br/wp-content/uploads/2021/07/Lancamento2-saturado.png
END:VEVENT
END:VCALENDAR